BEGIN:VCALENDAR
VERSION:2.0
PRODID:-//https://calenda-formation.labocleo.org
X-WR-CALNAME:Calenda
X-WR-TIMEZONE:Europe/Paris
CALSCALE:GREGORIAN
X-WR-CALDESC:Le calendrier des lettres et sciences humaines et sociales
METHOD:PUBLISH
BEGIN:VEVENT
DTSTART;VALUE=DATE:20160901
DTEND;VALUE=DATE:20160902
UID:363967-20160901@calenda.revues.org
SUMMARY:Représentations et figures de la maternité dans le monde anglophone
URL:https://calenda-formation.labocleo.org/363967
DESCRIPTION:L’ambition de ce colloque est d’interroger les discours liés à la maternité\, les traductions des choix de société dans les représentations culturelles des mères comme icônes ou boucs-émissaires\, et la réception ou la critique de ces représentations d… @plus_info https://calenda-formation.labocleo.org/363967
LOCATION:Tours
END:VEVENT
END:VCALENDAR
