BEGIN:VCALENDAR
VERSION:2.0
PRODID:-//https://calenda-formation.labocleo.org
X-WR-CALNAME:Calenda
X-WR-TIMEZONE:Europe/Paris
CALSCALE:GREGORIAN
X-WR-CALDESC:The calendar for arts, humanities and social sciences
METHOD:PUBLISH
BEGIN:VEVENT
DTSTART;VALUE=DATE:20160617
DTEND;VALUE=DATE:20160618
UID:364262-20160617@calenda.revues.org
SUMMARY:Tourism governance of the council of Europe's cultural routes 
URL:https://calenda-formation.labocleo.org/364262
DESCRIPTION:This conference sets out to analyse new governance practices in the Council of Europe’s Cultural Routes in all their various aspects. It also aims to give participants the opportunity to exchange inter-sector practices and methods of cooperation that… @plus_info https://calenda-formation.labocleo.org/364262
LOCATION:Paris
END:VEVENT
END:VCALENDAR
