BEGIN:VCALENDAR
VERSION:2.0
PRODID:-//https://calenda-formation.labocleo.org
X-WR-CALNAME:Calenda
X-WR-TIMEZONE:Europe/Paris
CALSCALE:GREGORIAN
X-WR-CALDESC:O calendário de letras e de ciências sociais e humanas
METHOD:PUBLISH
BEGIN:VEVENT
DTSTART;VALUE=DATE:20160617
DTEND;VALUE=DATE:20160618
UID:364608-20160617@calenda.revues.org
SUMMARY:Allocations doctorales du labex « Les passés dans le présent »
URL:https://calenda-formation.labocleo.org/364608
DESCRIPTION:Le laboratoire d’excellence « Les passés dans le présent : histoire\, patrimoine\, mémoire » attribuera en juillet 2016 trois contrats doctoraux (2016-2019) pour des thèses préparées\, selon le sujet\, dans l’une ou l’autre des écoles doctorales de l’uni… @plus_info https://calenda-formation.labocleo.org/364608
LOCATION:Nanterre
END:VEVENT
END:VCALENDAR
