BEGIN:VCALENDAR
VERSION:2.0
PRODID:-//https://calenda-formation.labocleo.org
X-WR-CALNAME:Calenda
X-WR-TIMEZONE:Europe/Paris
CALSCALE:GREGORIAN
X-WR-CALDESC:The calendar for arts, humanities and social sciences
METHOD:PUBLISH
BEGIN:VEVENT
DTSTART;VALUE=DATE:20160630
DTEND;VALUE=DATE:20160701
UID:365059-20160630@calenda.revues.org
SUMMARY:Contemporary migrations in the humanistic coefficient perspective. Florian Znaniecki’s thought in today’s science
URL:https://calenda-formation.labocleo.org/365059
DESCRIPTION:The Florian Znaniecki Scientific Foundation founded in 1989 plans to publish a volume\, as part of the Sociological Monographs series\, with a working title “Contemporary migrations in the humanistic coefficient perspective. Florian Znaniecki’s thought… @plus_info https://calenda-formation.labocleo.org/365059
LOCATION:
END:VEVENT
BEGIN:VEVENT
DTSTART;VALUE=DATE:20160930
DTEND;VALUE=DATE:20161001
UID:365059-20160930@calenda.revues.org
SUMMARY:Contemporary migrations in the humanistic coefficient perspective. Florian Znaniecki’s thought in today’s science
URL:https://calenda-formation.labocleo.org/365059
DESCRIPTION:The Florian Znaniecki Scientific Foundation founded in 1989 plans to publish a volume\, as part of the Sociological Monographs series\, with a working title “Contemporary migrations in the humanistic coefficient perspective. Florian Znaniecki’s thought… @plus_info https://calenda-formation.labocleo.org/365059
LOCATION:
END:VEVENT
END:VCALENDAR
