BEGIN:VCALENDAR
VERSION:2.0
PRODID:-//https://calenda-formation.labocleo.org
X-WR-CALNAME:Calenda
X-WR-TIMEZONE:Europe/Paris
CALSCALE:GREGORIAN
X-WR-CALDESC:Le calendrier des lettres et sciences humaines et sociales
METHOD:PUBLISH
BEGIN:VEVENT
DTSTART;VALUE=DATE:20160820
DTEND;VALUE=DATE:20160821
UID:365180-20160820@calenda.revues.org
SUMMARY:Machines\, magie\, médias
URL:https://calenda-formation.labocleo.org/365180
DESCRIPTION:Ce colloque envisage les techniques de l’illusion mises au service des arts du spectacle\, à travers leur cycle technique et technologique : le moment magique (croyance et émerveillement)\, le mode magique (rhétorique)\, la sécularisation (banalisation … @plus_info https://calenda-formation.labocleo.org/365180
LOCATION:Cerisy-la-Salle
END:VEVENT
BEGIN:VEVENT
DTSTART;VALUE=DATE:20160821
DTEND;VALUE=DATE:20160822
UID:365180-20160821@calenda.revues.org
SUMMARY:Machines\, magie\, médias
URL:https://calenda-formation.labocleo.org/365180
DESCRIPTION:Ce colloque envisage les techniques de l’illusion mises au service des arts du spectacle\, à travers leur cycle technique et technologique : le moment magique (croyance et émerveillement)\, le mode magique (rhétorique)\, la sécularisation (banalisation … @plus_info https://calenda-formation.labocleo.org/365180
LOCATION:Cerisy-la-Salle
END:VEVENT
BEGIN:VEVENT
DTSTART;VALUE=DATE:20160822
DTEND;VALUE=DATE:20160823
UID:365180-20160822@calenda.revues.org
SUMMARY:Machines\, magie\, médias
URL:https://calenda-formation.labocleo.org/365180
DESCRIPTION:Ce colloque envisage les techniques de l’illusion mises au service des arts du spectacle\, à travers leur cycle technique et technologique : le moment magique (croyance et émerveillement)\, le mode magique (rhétorique)\, la sécularisation (banalisation … @plus_info https://calenda-formation.labocleo.org/365180
LOCATION:Cerisy-la-Salle
END:VEVENT
BEGIN:VEVENT
DTSTART;VALUE=DATE:20160823
DTEND;VALUE=DATE:20160824
UID:365180-20160823@calenda.revues.org
SUMMARY:Machines\, magie\, médias
URL:https://calenda-formation.labocleo.org/365180
DESCRIPTION:Ce colloque envisage les techniques de l’illusion mises au service des arts du spectacle\, à travers leur cycle technique et technologique : le moment magique (croyance et émerveillement)\, le mode magique (rhétorique)\, la sécularisation (banalisation … @plus_info https://calenda-formation.labocleo.org/365180
LOCATION:Cerisy-la-Salle
END:VEVENT
BEGIN:VEVENT
DTSTART;VALUE=DATE:20160824
DTEND;VALUE=DATE:20160825
UID:365180-20160824@calenda.revues.org
SUMMARY:Machines\, magie\, médias
URL:https://calenda-formation.labocleo.org/365180
DESCRIPTION:Ce colloque envisage les techniques de l’illusion mises au service des arts du spectacle\, à travers leur cycle technique et technologique : le moment magique (croyance et émerveillement)\, le mode magique (rhétorique)\, la sécularisation (banalisation … @plus_info https://calenda-formation.labocleo.org/365180
LOCATION:Cerisy-la-Salle
END:VEVENT
BEGIN:VEVENT
DTSTART;VALUE=DATE:20160825
DTEND;VALUE=DATE:20160826
UID:365180-20160825@calenda.revues.org
SUMMARY:Machines\, magie\, médias
URL:https://calenda-formation.labocleo.org/365180
DESCRIPTION:Ce colloque envisage les techniques de l’illusion mises au service des arts du spectacle\, à travers leur cycle technique et technologique : le moment magique (croyance et émerveillement)\, le mode magique (rhétorique)\, la sécularisation (banalisation … @plus_info https://calenda-formation.labocleo.org/365180
LOCATION:Cerisy-la-Salle
END:VEVENT
BEGIN:VEVENT
DTSTART;VALUE=DATE:20160826
DTEND;VALUE=DATE:20160827
UID:365180-20160826@calenda.revues.org
SUMMARY:Machines\, magie\, médias
URL:https://calenda-formation.labocleo.org/365180
DESCRIPTION:Ce colloque envisage les techniques de l’illusion mises au service des arts du spectacle\, à travers leur cycle technique et technologique : le moment magique (croyance et émerveillement)\, le mode magique (rhétorique)\, la sécularisation (banalisation … @plus_info https://calenda-formation.labocleo.org/365180
LOCATION:Cerisy-la-Salle
END:VEVENT
BEGIN:VEVENT
DTSTART;VALUE=DATE:20160827
DTEND;VALUE=DATE:20160828
UID:365180-20160827@calenda.revues.org
SUMMARY:Machines\, magie\, médias
URL:https://calenda-formation.labocleo.org/365180
DESCRIPTION:Ce colloque envisage les techniques de l’illusion mises au service des arts du spectacle\, à travers leur cycle technique et technologique : le moment magique (croyance et émerveillement)\, le mode magique (rhétorique)\, la sécularisation (banalisation … @plus_info https://calenda-formation.labocleo.org/365180
LOCATION:Cerisy-la-Salle
END:VEVENT
BEGIN:VEVENT
DTSTART;VALUE=DATE:20160828
DTEND;VALUE=DATE:20160829
UID:365180-20160828@calenda.revues.org
SUMMARY:Machines\, magie\, médias
URL:https://calenda-formation.labocleo.org/365180
DESCRIPTION:Ce colloque envisage les techniques de l’illusion mises au service des arts du spectacle\, à travers leur cycle technique et technologique : le moment magique (croyance et émerveillement)\, le mode magique (rhétorique)\, la sécularisation (banalisation … @plus_info https://calenda-formation.labocleo.org/365180
LOCATION:Cerisy-la-Salle
END:VEVENT
END:VCALENDAR
