BEGIN:VCALENDAR
VERSION:2.0
PRODID:-//https://calenda-formation.labocleo.org
X-WR-CALNAME:Calenda
X-WR-TIMEZONE:Europe/Paris
CALSCALE:GREGORIAN
X-WR-CALDESC:O calendário de letras e de ciências sociais e humanas
METHOD:PUBLISH
BEGIN:VEVENT
DTSTART;VALUE=DATE:20160617
DTEND;VALUE=DATE:20160618
UID:365190-20160617@calenda.revues.org
SUMMARY:La reliance
URL:https://calenda-formation.labocleo.org/365190
DESCRIPTION:Le colloque pluridisciplinaire que l’Unité de recherche intermédialité\, lettres et langages organise les 20\, 21 et 22 octobre 2016\, à l’ISSHT - Tunis\, envisage d’examiner une base conceptuelle privilégiée pour aborder les pratiques d’« intermédiation… @plus_info https://calenda-formation.labocleo.org/365190
LOCATION:Tunes
END:VEVENT
END:VCALENDAR
