BEGIN:VCALENDAR
VERSION:2.0
PRODID:-//https://calenda-formation.labocleo.org
X-WR-CALNAME:Calenda
X-WR-TIMEZONE:Europe/Paris
CALSCALE:GREGORIAN
X-WR-CALDESC:Le calendrier des lettres et sciences humaines et sociales
METHOD:PUBLISH
BEGIN:VEVENT
DTSTART;VALUE=DATE:20160715
DTEND;VALUE=DATE:20160716
UID:365202-20160715@calenda.revues.org
SUMMARY:Charles de Foucauld\, pluriel 
URL:https://calenda-formation.labocleo.org/365202
DESCRIPTION:La mobilité du génie foucauldien étonne. Créateur aux sept visages\, Charles de Foucauld fut officier de l’armée française\, explorateur\, géographe\, religieux catholique ermite\, ethnographe\, linguiste et lexicographe. Ordonné prêtre en 1901\, il décide … Weitere Informationen https://calenda-formation.labocleo.org/365202
LOCATION:Villetaneuse
END:VEVENT
END:VCALENDAR
