BEGIN:VCALENDAR
VERSION:2.0
PRODID:-//https://calenda-formation.labocleo.org
X-WR-CALNAME:Calenda
X-WR-TIMEZONE:Europe/Paris
CALSCALE:GREGORIAN
X-WR-CALDESC:The calendar for arts, humanities and social sciences
METHOD:PUBLISH
BEGIN:VEVENT
DTSTART;VALUE=DATE:20160526
DTEND;VALUE=DATE:20160527
UID:365244-20160526@calenda.revues.org
SUMMARY:14th seminar of the Groupement d'intéret scientifique (GIS) Marsouin
URL:https://calenda-formation.labocleo.org/365244
DESCRIPTION:Chaque année en mai\, le séminaire du GIS M@rsouin rassemble des chercheurs qui partagent un intérêt commun pour les bouleversements opérés par le numérique dans nos sociétés. Ces réflexions mobilisent les chercheurs confirmés et débutants dans une dé… @plus_info https://calenda-formation.labocleo.org/365244
LOCATION:Douarnenez
END:VEVENT
BEGIN:VEVENT
DTSTART;VALUE=DATE:20160527
DTEND;VALUE=DATE:20160528
UID:365244-20160527@calenda.revues.org
SUMMARY:14th seminar of the Groupement d'intéret scientifique (GIS) Marsouin
URL:https://calenda-formation.labocleo.org/365244
DESCRIPTION:Chaque année en mai\, le séminaire du GIS M@rsouin rassemble des chercheurs qui partagent un intérêt commun pour les bouleversements opérés par le numérique dans nos sociétés. Ces réflexions mobilisent les chercheurs confirmés et débutants dans une dé… @plus_info https://calenda-formation.labocleo.org/365244
LOCATION:Douarnenez
END:VEVENT
END:VCALENDAR
