BEGIN:VCALENDAR
VERSION:2.0
PRODID:-//https://calenda-formation.labocleo.org
X-WR-CALNAME:Calenda
X-WR-TIMEZONE:Europe/Paris
CALSCALE:GREGORIAN
X-WR-CALDESC:The calendar for arts, humanities and social sciences
METHOD:PUBLISH
BEGIN:VEVENT
DTSTART;VALUE=DATE:20160706
DTEND;VALUE=DATE:20160707
UID:365550-20160706@calenda.revues.org
SUMMARY:Multi-modal interactions via the screen (IMPEC)
URL:https://calenda-formation.labocleo.org/365550
DESCRIPTION:L’objectif de ce colloque est de poursuivre l’étude du paysage des communications numériques qui ne cesse de se transformer et de se diversifier avec les écrans\, qu’il s’agisse d’interactions en contexte privé et de loisirs\, en contexte éducatif ou e… @plus_info https://calenda-formation.labocleo.org/365550
LOCATION:Lyon
END:VEVENT
BEGIN:VEVENT
DTSTART;VALUE=DATE:20160708
DTEND;VALUE=DATE:20160709
UID:365550-20160708@calenda.revues.org
SUMMARY:Multi-modal interactions via the screen (IMPEC)
URL:https://calenda-formation.labocleo.org/365550
DESCRIPTION:L’objectif de ce colloque est de poursuivre l’étude du paysage des communications numériques qui ne cesse de se transformer et de se diversifier avec les écrans\, qu’il s’agisse d’interactions en contexte privé et de loisirs\, en contexte éducatif ou e… @plus_info https://calenda-formation.labocleo.org/365550
LOCATION:Lyon
END:VEVENT
BEGIN:VEVENT
DTSTART;VALUE=DATE:20160707
DTEND;VALUE=DATE:20160708
UID:365550-20160707@calenda.revues.org
SUMMARY:Multi-modal interactions via the screen (IMPEC)
URL:https://calenda-formation.labocleo.org/365550
DESCRIPTION:L’objectif de ce colloque est de poursuivre l’étude du paysage des communications numériques qui ne cesse de se transformer et de se diversifier avec les écrans\, qu’il s’agisse d’interactions en contexte privé et de loisirs\, en contexte éducatif ou e… @plus_info https://calenda-formation.labocleo.org/365550
LOCATION:Lyon
END:VEVENT
END:VCALENDAR
