BEGIN:VCALENDAR
VERSION:2.0
PRODID:-//https://calenda-formation.labocleo.org
X-WR-CALNAME:Calenda
X-WR-TIMEZONE:Europe/Paris
CALSCALE:GREGORIAN
X-WR-CALDESC:The calendar for arts, humanities and social sciences
METHOD:PUBLISH
BEGIN:VEVENT
DTSTART;VALUE=DATE:20160615
DTEND;VALUE=DATE:20160616
UID:365650-20160615@calenda.revues.org
SUMMARY:Research in information literacy and the media and education in the media (LIMEAM)
URL:https://calenda-formation.labocleo.org/365650
DESCRIPTION:Le Groupe de recherche en médiation des savoirs (GReMS) de l'université catholique de Louvain (Belgique) organise une école d'été à destination des doctorants\, sur le thème de la recherche en éducation aux médias et en littératie médiatique. … @plus_info https://calenda-formation.labocleo.org/365650
LOCATION:Louvain-la-Neuve
END:VEVENT
END:VCALENDAR
