BEGIN:VCALENDAR
VERSION:2.0
PRODID:-//https://calenda-formation.labocleo.org
X-WR-CALNAME:Calenda
X-WR-TIMEZONE:Europe/Paris
CALSCALE:GREGORIAN
X-WR-CALDESC:Le calendrier des lettres et sciences humaines et sociales
METHOD:PUBLISH
BEGIN:VEVENT
DTSTART;VALUE=DATE:20160511
DTEND;VALUE=DATE:20160512
UID:365697-20160511@calenda.revues.org
SUMMARY:Eighties incomprises
URL:https://calenda-formation.labocleo.org/365697
DESCRIPTION:Longtemps mal aimé et mal compris\, l’art des années 1980 fait depuis peu l’objet de relectures historiographiques. La décennie 1980 tend en effet à être perçue comme un moment hédoniste et « léger »\, succédant au « moment théorique » des années 1960-… Weitere Informationen https://calenda-formation.labocleo.org/365697
LOCATION:Paris
END:VEVENT
END:VCALENDAR
