BEGIN:VCALENDAR
VERSION:2.0
PRODID:-//https://calenda-formation.labocleo.org
X-WR-CALNAME:Calenda
X-WR-TIMEZONE:Europe/Paris
CALSCALE:GREGORIAN
X-WR-CALDESC:The calendar for arts, humanities and social sciences
METHOD:PUBLISH
BEGIN:VEVENT
DTSTART;VALUE=DATE:20160930
DTEND;VALUE=DATE:20161001
UID:365781-20160930@calenda.revues.org
SUMMARY:Terra mater: nourishing soils - Liessies international conference\, "Archives and soil dynamics"
URL:https://calenda-formation.labocleo.org/365781
DESCRIPTION:Les sols - formations superficielles d’épaisseur variable selon les apports de matériaux minéraux et organiques - évoluent en permanence selon les conditions climatiques et la nature de la couverture végétale. Ils sont également le support de la vie … @plus_info https://calenda-formation.labocleo.org/365781
LOCATION:
END:VEVENT
END:VCALENDAR
