BEGIN:VCALENDAR
VERSION:2.0
PRODID:-//https://calenda-formation.labocleo.org
X-WR-CALNAME:Calenda
X-WR-TIMEZONE:Europe/Paris
CALSCALE:GREGORIAN
X-WR-CALDESC:Le calendrier des lettres et sciences humaines et sociales
METHOD:PUBLISH
BEGIN:VEVENT
DTSTART;VALUE=DATE:20160531
DTEND;VALUE=DATE:20160601
UID:366404-20160531@calenda.revues.org
SUMMARY:Représentations spatiales de la péninsule Arabique
URL:https://calenda-formation.labocleo.org/366404
DESCRIPTION:La représentation de la péninsule Arabique est loin de présenter un profil linéaire. L’ouverture des champs d’étude sur la péninsule Arabique a permis de produire des représentations spatio-temporelles multiples suivant les intérêts et selon les époq… Weitere Informationen https://calenda-formation.labocleo.org/366404
LOCATION:Paris
END:VEVENT
END:VCALENDAR
