BEGIN:VCALENDAR
VERSION:2.0
PRODID:-//https://calenda-formation.labocleo.org
X-WR-CALNAME:Calenda
X-WR-TIMEZONE:Europe/Paris
CALSCALE:GREGORIAN
X-WR-CALDESC:The calendar for arts, humanities and social sciences
METHOD:PUBLISH
BEGIN:VEVENT
DTSTART;VALUE=DATE:20160531
DTEND;VALUE=DATE:20160601
UID:366404-20160531@calenda.revues.org
SUMMARY:Spacial representations of the Arabian Peninsula
URL:https://calenda-formation.labocleo.org/366404
DESCRIPTION:The Arabian Peninsula is far from presenting a one-dimensional representation. The opening of the fields of study and knowledge in Europe on the Arabian Peninsula has produced multiple spatiotemporal representations according to interests and ages. T… @plus_info https://calenda-formation.labocleo.org/366404
LOCATION:Paris
END:VEVENT
END:VCALENDAR
