BEGIN:VCALENDAR
VERSION:2.0
PRODID:-//https://calenda-formation.labocleo.org
X-WR-CALNAME:Calenda
X-WR-TIMEZONE:Europe/Paris
CALSCALE:GREGORIAN
X-WR-CALDESC:The calendar for arts, humanities and social sciences
METHOD:PUBLISH
BEGIN:VEVENT
DTSTART;VALUE=DATE:20160520
DTEND;VALUE=DATE:20160521
UID:366609-20160520@calenda.revues.org
SUMMARY:Health in flesh and numbers
URL:https://calenda-formation.labocleo.org/366609
DESCRIPTION:L’un des principaux objectifs de ce colloque est d’interroger la façon dont les représentations et les imaginaires sociaux de la santé se réfléchissent dans les technologies contemporaines\, ou encore\, comment ces technologies modifient en retour l’id… @plus_info https://calenda-formation.labocleo.org/366609
LOCATION:Paris
END:VEVENT
BEGIN:VEVENT
DTSTART;VALUE=DATE:20160521
DTEND;VALUE=DATE:20160522
UID:366609-20160521@calenda.revues.org
SUMMARY:Health in flesh and numbers
URL:https://calenda-formation.labocleo.org/366609
DESCRIPTION:L’un des principaux objectifs de ce colloque est d’interroger la façon dont les représentations et les imaginaires sociaux de la santé se réfléchissent dans les technologies contemporaines\, ou encore\, comment ces technologies modifient en retour l’id… @plus_info https://calenda-formation.labocleo.org/366609
LOCATION:Paris
END:VEVENT
END:VCALENDAR
