BEGIN:VCALENDAR
VERSION:2.0
PRODID:-//https://calenda-formation.labocleo.org
X-WR-CALNAME:Calenda
X-WR-TIMEZONE:Europe/Paris
CALSCALE:GREGORIAN
X-WR-CALDESC:Le calendrier des lettres et sciences humaines et sociales
METHOD:PUBLISH
BEGIN:VEVENT
DTSTART;VALUE=DATE:20160930
DTEND;VALUE=DATE:20161001
UID:366627-20160930@calenda.revues.org
SUMMARY:Penser l’espace
URL:https://calenda-formation.labocleo.org/366627
DESCRIPTION:La revue Géographie et cultures envisage un numéro thématique consacré aux différentes pensées de l’espace\, et vise plus particulièrement à croiser les regards de la géographie\, de la philosophie et des conceptions de l’aménagement. La possibilité de… @plus_info https://calenda-formation.labocleo.org/366627
LOCATION:
END:VEVENT
END:VCALENDAR
