BEGIN:VCALENDAR
VERSION:2.0
PRODID:-//https://calenda-formation.labocleo.org
X-WR-CALNAME:Calenda
X-WR-TIMEZONE:Europe/Paris
CALSCALE:GREGORIAN
X-WR-CALDESC:The calendar for arts, humanities and social sciences
METHOD:PUBLISH
BEGIN:VEVENT
DTSTART;VALUE=DATE:20160901
DTEND;VALUE=DATE:20160902
UID:366744-20160901@calenda.revues.org
SUMMARY:The gift of direction
URL:https://calenda-formation.labocleo.org/366744
DESCRIPTION:Cette rencontre ambitionne d’étudier l’acte de donation au cours de la première modernité\, un acte que l’on envisagera comme forme de communication et comme acteur du lien social au cours de la période. C’est plus précisément la mise en scène du don … @plus_info https://calenda-formation.labocleo.org/366744
LOCATION:Louvain-la-Neuve
END:VEVENT
END:VCALENDAR
