BEGIN:VCALENDAR
VERSION:2.0
PRODID:-//https://calenda-formation.labocleo.org
X-WR-CALNAME:Calenda
X-WR-TIMEZONE:Europe/Paris
CALSCALE:GREGORIAN
X-WR-CALDESC:The calendar for arts, humanities and social sciences
METHOD:PUBLISH
BEGIN:VEVENT
DTSTART;VALUE=DATE:20160510
DTEND;VALUE=DATE:20160511
UID:366904-20160510@calenda.revues.org
SUMMARY:Being a geographer in 2016
URL:https://calenda-formation.labocleo.org/366904
DESCRIPTION:Bien que travaillant souvent dans un contexte interdisciplinaire\, les géographes utilisent des concepts\, des notions\, des positionnements méthodologiques\, qui se rapportent aux champs thématiques spécifiques de la géographie dans lesquels ils inscriv… @plus_info https://calenda-formation.labocleo.org/366904
LOCATION:Le Havre
END:VEVENT
END:VCALENDAR
