BEGIN:VCALENDAR
VERSION:2.0
PRODID:-//https://calenda-formation.labocleo.org
X-WR-CALNAME:Calenda
X-WR-TIMEZONE:Europe/Paris
CALSCALE:GREGORIAN
X-WR-CALDESC:The calendar for arts, humanities and social sciences
METHOD:PUBLISH
BEGIN:VEVENT
DTSTART;VALUE=DATE:20160930
DTEND;VALUE=DATE:20161001
UID:367043-20160930@calenda.revues.org
SUMMARY:Artistic practices and creative processes from school to university
URL:https://calenda-formation.labocleo.org/367043
DESCRIPTION:Ce colloque a pour ambition de questionner les pratiques artistiques et la création à l’école\, sujets qui revêtent pour la recherche un enjeu majeur\, accru par l’entrée en vigueur du parcours d’éducation artistique et culturelle. L’un des objectifs d… @plus_info https://calenda-formation.labocleo.org/367043
LOCATION:Nîmes
END:VEVENT
END:VCALENDAR
