BEGIN:VCALENDAR
VERSION:2.0
PRODID:-//https://calenda-formation.labocleo.org
X-WR-CALNAME:Calenda
X-WR-TIMEZONE:Europe/Paris
CALSCALE:GREGORIAN
X-WR-CALDESC:The calendar for arts, humanities and social sciences
METHOD:PUBLISH
BEGIN:VEVENT
DTSTART;VALUE=DATE:20160609
DTEND;VALUE=DATE:20160610
UID:367211-20160609@calenda.revues.org
SUMMARY:Wars and comic books - representations\, confrontations and reception in European societies
URL:https://calenda-formation.labocleo.org/367211
DESCRIPTION:« Raconter la guerre » a toujours occupé une place certaine dans la bande dessinée en Europe que ce soit comme instrument de propagande\, d’héroïsation ou de dénonciation. Elle n’en est pas moins vecteur de transmission de mémoires\, de savoirs e… @plus_info https://calenda-formation.labocleo.org/367211
LOCATION:Paris
END:VEVENT
BEGIN:VEVENT
DTSTART;VALUE=DATE:20160610
DTEND;VALUE=DATE:20160611
UID:367211-20160610@calenda.revues.org
SUMMARY:Wars and comic books - representations\, confrontations and reception in European societies
URL:https://calenda-formation.labocleo.org/367211
DESCRIPTION:« Raconter la guerre » a toujours occupé une place certaine dans la bande dessinée en Europe que ce soit comme instrument de propagande\, d’héroïsation ou de dénonciation. Elle n’en est pas moins vecteur de transmission de mémoires\, de savoirs e… @plus_info https://calenda-formation.labocleo.org/367211
LOCATION:Paris
END:VEVENT
END:VCALENDAR
