BEGIN:VCALENDAR
VERSION:2.0
PRODID:-//https://calenda-formation.labocleo.org
X-WR-CALNAME:Calenda
X-WR-TIMEZONE:Europe/Paris
CALSCALE:GREGORIAN
X-WR-CALDESC:O calendário de letras e de ciências sociais e humanas
METHOD:PUBLISH
BEGIN:VEVENT
DTSTART;VALUE=DATE:20160615
DTEND;VALUE=DATE:20160616
UID:367227-20160615@calenda.revues.org
SUMMARY:Bourse de thèse sur « les pratiques marchandes des agriculteurs biologiques à l’épreuve de l’institutionnalisation de l’agroécologie »
URL:https://calenda-formation.labocleo.org/367227
DESCRIPTION:L’UMR Innovation recherche un(e) candidat(e) pour un doctorat en sociologie de trois ans sur le thème suivant : Les pratiques marchandes des agriculteurs biologiques à l’épreuve de l’institutionnalisation de l’agroécologie. Alors que l’agroécologie a… @plus_info https://calenda-formation.labocleo.org/367227
LOCATION:Montpellier
END:VEVENT
END:VCALENDAR
