BEGIN:VCALENDAR
VERSION:2.0
PRODID:-//https://calenda-formation.labocleo.org
X-WR-CALNAME:Calenda
X-WR-TIMEZONE:Europe/Paris
CALSCALE:GREGORIAN
X-WR-CALDESC:O calendário de letras e de ciências sociais e humanas
METHOD:PUBLISH
BEGIN:VEVENT
DTSTART;VALUE=DATE:20160623
DTEND;VALUE=DATE:20160624
UID:367681-20160623@calenda.revues.org
SUMMARY:Quelle archéologie territoriale pour demain ?
URL:https://calenda-formation.labocleo.org/367681
DESCRIPTION:La redéfinition en cours des territoires\, la révision du cadre juridique de la protection des patrimoines\, l'évolution des pratiques et la diversification des acteurs ont contribué à renouveler la manière de faire l'archéologie et invitent aujourd’hu… @plus_info https://calenda-formation.labocleo.org/367681
LOCATION:Clermont-Ferrand
END:VEVENT
BEGIN:VEVENT
DTSTART;VALUE=DATE:20160624
DTEND;VALUE=DATE:20160625
UID:367681-20160624@calenda.revues.org
SUMMARY:Quelle archéologie territoriale pour demain ?
URL:https://calenda-formation.labocleo.org/367681
DESCRIPTION:La redéfinition en cours des territoires\, la révision du cadre juridique de la protection des patrimoines\, l'évolution des pratiques et la diversification des acteurs ont contribué à renouveler la manière de faire l'archéologie et invitent aujourd’hu… @plus_info https://calenda-formation.labocleo.org/367681
LOCATION:Clermont-Ferrand
END:VEVENT
END:VCALENDAR
