BEGIN:VCALENDAR
VERSION:2.0
PRODID:-//https://calenda-formation.labocleo.org
X-WR-CALNAME:Calenda
X-WR-TIMEZONE:Europe/Paris
CALSCALE:GREGORIAN
X-WR-CALDESC:O calendário de letras e de ciências sociais e humanas
METHOD:PUBLISH
BEGIN:VEVENT
DTSTART;VALUE=DATE:20160617
DTEND;VALUE=DATE:20160618
UID:367719-20160617@calenda.revues.org
SUMMARY:Habiter en étranger
URL:https://calenda-formation.labocleo.org/367719
DESCRIPTION:« Habiter en étranger » : l’expression semble paradoxale\, car habiter suggère une familiarité avec l’espace vécu. Mais la littérature contemporaine ne cesse de défaire ce lien entre le sujet et son ancrage territorial\, pour nous rappeler la fragilité… @plus_info https://calenda-formation.labocleo.org/367719
LOCATION:Paris
END:VEVENT
END:VCALENDAR
