BEGIN:VCALENDAR
VERSION:2.0
PRODID:-//https://calenda-formation.labocleo.org
X-WR-CALNAME:Calenda
X-WR-TIMEZONE:Europe/Paris
CALSCALE:GREGORIAN
X-WR-CALDESC:The calendar for arts, humanities and social sciences
METHOD:PUBLISH
BEGIN:VEVENT
DTSTART;VALUE=DATE:20160724
DTEND;VALUE=DATE:20160725
UID:367751-20160724@calenda.revues.org
SUMMARY:Education and health: what otherness? Research\, practices and training
URL:https://calenda-formation.labocleo.org/367751
DESCRIPTION:Si l’altérité se définit par le caractère de ce qui est autre\, de sa reconnaissance\, de la relation entre le je et l’autre\, par le degré de ce qui est perçu comme familier ou étranger\, les altérités concernent\, entre autres\, les relations humaines\, l… @plus_info https://calenda-formation.labocleo.org/367751
LOCATION:Paris
END:VEVENT
END:VCALENDAR
