BEGIN:VCALENDAR
VERSION:2.0
PRODID:-//https://calenda-formation.labocleo.org
X-WR-CALNAME:Calenda
X-WR-TIMEZONE:Europe/Paris
CALSCALE:GREGORIAN
X-WR-CALDESC:O calendário de letras e de ciências sociais e humanas
METHOD:PUBLISH
BEGIN:VEVENT
DTSTART;VALUE=DATE:20160531
DTEND;VALUE=DATE:20160601
UID:367800-20160531@calenda.revues.org
SUMMARY:Images et mémoires : visibilité et invisibilité de la guerre en Algérie 
URL:https://calenda-formation.labocleo.org/367800
DESCRIPTION:Il est courant d’entendre que la guerre d’Algérie a été une « guerre sans nom » ou encore une « guerre invisible ». Ces propos méritent d’être infléchis voire corrigés car dès 1954 les contemporains en Algérie et en France ont photographié\, filmé\, il… @plus_info https://calenda-formation.labocleo.org/367800
LOCATION:Lyon
END:VEVENT
BEGIN:VEVENT
DTSTART;VALUE=DATE:20160601
DTEND;VALUE=DATE:20160602
UID:367800-20160601@calenda.revues.org
SUMMARY:Images et mémoires : visibilité et invisibilité de la guerre en Algérie 
URL:https://calenda-formation.labocleo.org/367800
DESCRIPTION:Il est courant d’entendre que la guerre d’Algérie a été une « guerre sans nom » ou encore une « guerre invisible ». Ces propos méritent d’être infléchis voire corrigés car dès 1954 les contemporains en Algérie et en France ont photographié\, filmé\, il… @plus_info https://calenda-formation.labocleo.org/367800
LOCATION:Lyon
END:VEVENT
END:VCALENDAR
