BEGIN:VCALENDAR
VERSION:2.0
PRODID:-//https://calenda-formation.labocleo.org
X-WR-CALNAME:Calenda
X-WR-TIMEZONE:Europe/Paris
CALSCALE:GREGORIAN
X-WR-CALDESC:The calendar for arts, humanities and social sciences
METHOD:PUBLISH
BEGIN:VEVENT
DTSTART;VALUE=DATE:20160610
DTEND;VALUE=DATE:20160611
UID:367814-20160610@calenda.revues.org
SUMMARY:Bodily practices - prisms for studying the construction of power relationships in Latin America and the Caribbean
URL:https://calenda-formation.labocleo.org/367814
DESCRIPTION:Le laboratoire junior EIRALC (Empires\, impérialismes et résistances en Amérique latine et dans les Caraïbes) propose\, pour sa deuxième journée d’études\, de réfléchir aux rapports de pouvoir en Amérique latine et dans les Caraïbes à travers le prisme … @plus_info https://calenda-formation.labocleo.org/367814
LOCATION:Nantes
END:VEVENT
END:VCALENDAR
