BEGIN:VCALENDAR
VERSION:2.0
PRODID:-//https://calenda-formation.labocleo.org
X-WR-CALNAME:Calenda
X-WR-TIMEZONE:Europe/Paris
CALSCALE:GREGORIAN
X-WR-CALDESC:Le calendrier des lettres et sciences humaines et sociales
METHOD:PUBLISH
BEGIN:VEVENT
DTSTART;VALUE=DATE:20160620
DTEND;VALUE=DATE:20160621
UID:368250-20160620@calenda.revues.org
SUMMARY:Poesia de cancioneiro e cultura de corte
URL:https://calenda-formation.labocleo.org/368250
DESCRIPTION:Para conmemorar el quinto centenario de la publicación del Cancioneiro Geral\, reunido por Garcia de Resende y dado a la estampa en 1516\, se realizará en la Universidad de Évora\, entre los días 6 y 8 de octubre de 2016\, el Congreso Internacional Poesi… Más informaciones https://calenda-formation.labocleo.org/368250
LOCATION:Evora
END:VEVENT
END:VCALENDAR
