BEGIN:VCALENDAR
VERSION:2.0
PRODID:-//https://calenda-formation.labocleo.org
X-WR-CALNAME:Calenda
X-WR-TIMEZONE:Europe/Paris
CALSCALE:GREGORIAN
X-WR-CALDESC:The calendar for arts, humanities and social sciences
METHOD:PUBLISH
BEGIN:VEVENT
DTSTART;VALUE=DATE:20160731
DTEND;VALUE=DATE:20160801
UID:368750-20160731@calenda.revues.org
SUMMARY:Translation in the luxury goods and fashion industry 
URL:https://calenda-formation.labocleo.org/368750
DESCRIPTION:Alors qu’on nous bombarde d’images de défilés de mode\, de « people » qui assistent à des événements fréquentés par les personnalités connues\, ou de grosses cylindrées capables de faire saliver les propriétaires de modèles plus modestes\, tout cela côt… @plus_info https://calenda-formation.labocleo.org/368750
LOCATION:
END:VEVENT
END:VCALENDAR
