BEGIN:VCALENDAR
VERSION:2.0
PRODID:-//https://calenda-formation.labocleo.org
X-WR-CALNAME:Calenda
X-WR-TIMEZONE:Europe/Paris
CALSCALE:GREGORIAN
X-WR-CALDESC:Le calendrier des lettres et sciences humaines et sociales
METHOD:PUBLISH
BEGIN:VEVENT
DTSTART;VALUE=DATE:20160624
DTEND;VALUE=DATE:20160625
UID:369260-20160624@calenda.revues.org
SUMMARY:Les procédures disciplinaires dans les institutions de traitement et de contrainte
URL:https://calenda-formation.labocleo.org/369260
DESCRIPTION:Cette journée d'étude\, organisée dans le cadre du groupe « Traitements et contraintes »\, fait le pari du caractère heuristique d’une investigation du disciplinaire dans sa dimension la plus formelle et institutionnalisée\, à savoir l’activité répressi… Weitere Informationen https://calenda-formation.labocleo.org/369260
LOCATION:Paris
END:VEVENT
END:VCALENDAR
