BEGIN:VCALENDAR
VERSION:2.0
PRODID:-//https://calenda-formation.labocleo.org
X-WR-CALNAME:Calenda
X-WR-TIMEZONE:Europe/Paris
CALSCALE:GREGORIAN
X-WR-CALDESC:The calendar for arts, humanities and social sciences
METHOD:PUBLISH
BEGIN:VEVENT
DTSTART;VALUE=DATE:20160623
DTEND;VALUE=DATE:20160624
UID:369422-20160623@calenda.revues.org
SUMMARY:Cornelius Castoriadis and his contemporaries
URL:https://calenda-formation.labocleo.org/369422
DESCRIPTION:Il s'agira de continuer d’analyser l’œuvre de Cornelius Castoriadis\, en explorant sa cohérence\, son actualité\, sa singularité. On fera aussi l’hypothèse que ce travail de commentaire et de compréhension pourrait tirer profit d’une lecture croisée ent… @plus_info https://calenda-formation.labocleo.org/369422
LOCATION:Paris
END:VEVENT
BEGIN:VEVENT
DTSTART;VALUE=DATE:20160624
DTEND;VALUE=DATE:20160625
UID:369422-20160624@calenda.revues.org
SUMMARY:Cornelius Castoriadis and his contemporaries
URL:https://calenda-formation.labocleo.org/369422
DESCRIPTION:Il s'agira de continuer d’analyser l’œuvre de Cornelius Castoriadis\, en explorant sa cohérence\, son actualité\, sa singularité. On fera aussi l’hypothèse que ce travail de commentaire et de compréhension pourrait tirer profit d’une lecture croisée ent… @plus_info https://calenda-formation.labocleo.org/369422
LOCATION:Paris
END:VEVENT
END:VCALENDAR
