BEGIN:VCALENDAR
VERSION:2.0
PRODID:-//https://calenda-formation.labocleo.org
X-WR-CALNAME:Calenda
X-WR-TIMEZONE:Europe/Paris
CALSCALE:GREGORIAN
X-WR-CALDESC:The calendar for arts, humanities and social sciences
METHOD:PUBLISH
BEGIN:VEVENT
DTSTART;VALUE=DATE:20160620
DTEND;VALUE=DATE:20160621
UID:369538-20160620@calenda.revues.org
SUMMARY:Arthur between North and South
URL:https://calenda-formation.labocleo.org/369538
DESCRIPTION:The "Arthur between North and South" conference will be held at the Paris-Sorbonne University on 6-8 December 2016. As the second conference organised by the Nordic Branch of the International Arthurian Society\, it will focus on recent research on th… @plus_info https://calenda-formation.labocleo.org/369538
LOCATION:Paris
END:VEVENT
END:VCALENDAR
