BEGIN:VCALENDAR
VERSION:2.0
PRODID:-//https://calenda-formation.labocleo.org
X-WR-CALNAME:Calenda
X-WR-TIMEZONE:Europe/Paris
CALSCALE:GREGORIAN
X-WR-CALDESC:Le calendrier des lettres et sciences humaines et sociales
METHOD:PUBLISH
BEGIN:VEVENT
DTSTART;VALUE=DATE:20160624
DTEND;VALUE=DATE:20160625
UID:369671-20160624@calenda.revues.org
SUMMARY:Du terrain à la théorie. Les 40 ans du LACITO (Langues et civilisations à tradition orale)
URL:https://calenda-formation.labocleo.org/369671
DESCRIPTION:À l’occasion du colloque international que le Lacito organise à Paris en novembre prochain (2016)\, nous organisons une session plénière dédiée à l’ethnolinguistique et l’anthropologie linguistique. Dans les années récentes\, l’anthropologie linguistiq… Weitere Informationen https://calenda-formation.labocleo.org/369671
LOCATION:Villejuif
END:VEVENT
END:VCALENDAR
