BEGIN:VCALENDAR
VERSION:2.0
PRODID:-//https://calenda-formation.labocleo.org
X-WR-CALNAME:Calenda
X-WR-TIMEZONE:Europe/Paris
CALSCALE:GREGORIAN
X-WR-CALDESC:Le calendrier des lettres et sciences humaines et sociales
METHOD:PUBLISH
BEGIN:VEVENT
DTSTART;VALUE=DATE:20160627
DTEND;VALUE=DATE:20160628
UID:370120-20160627@calenda.revues.org
SUMMARY:Digital technologies applied to the study of poetry
URL:https://calenda-formation.labocleo.org/370120
DESCRIPTION:The summer school offers an application of digital humanities to the study of poetry through practical learning of the latest technologies in this field. … Weitere Informationen https://calenda-formation.labocleo.org/370120
LOCATION:Madrid
END:VEVENT
BEGIN:VEVENT
DTSTART;VALUE=DATE:20160628
DTEND;VALUE=DATE:20160629
UID:370120-20160628@calenda.revues.org
SUMMARY:Digital technologies applied to the study of poetry
URL:https://calenda-formation.labocleo.org/370120
DESCRIPTION:The summer school offers an application of digital humanities to the study of poetry through practical learning of the latest technologies in this field. … Weitere Informationen https://calenda-formation.labocleo.org/370120
LOCATION:Madrid
END:VEVENT
BEGIN:VEVENT
DTSTART;VALUE=DATE:20160629
DTEND;VALUE=DATE:20160630
UID:370120-20160629@calenda.revues.org
SUMMARY:Digital technologies applied to the study of poetry
URL:https://calenda-formation.labocleo.org/370120
DESCRIPTION:The summer school offers an application of digital humanities to the study of poetry through practical learning of the latest technologies in this field. … Weitere Informationen https://calenda-formation.labocleo.org/370120
LOCATION:Madrid
END:VEVENT
BEGIN:VEVENT
DTSTART;VALUE=DATE:20160630
DTEND;VALUE=DATE:20160701
UID:370120-20160630@calenda.revues.org
SUMMARY:Digital technologies applied to the study of poetry
URL:https://calenda-formation.labocleo.org/370120
DESCRIPTION:The summer school offers an application of digital humanities to the study of poetry through practical learning of the latest technologies in this field. … Weitere Informationen https://calenda-formation.labocleo.org/370120
LOCATION:Madrid
END:VEVENT
BEGIN:VEVENT
DTSTART;VALUE=DATE:20160701
DTEND;VALUE=DATE:20160702
UID:370120-20160701@calenda.revues.org
SUMMARY:Digital technologies applied to the study of poetry
URL:https://calenda-formation.labocleo.org/370120
DESCRIPTION:The summer school offers an application of digital humanities to the study of poetry through practical learning of the latest technologies in this field. … Weitere Informationen https://calenda-formation.labocleo.org/370120
LOCATION:Madrid
END:VEVENT
END:VCALENDAR
