BEGIN:VCALENDAR
VERSION:2.0
PRODID:-//https://calenda-formation.labocleo.org
X-WR-CALNAME:Calenda
X-WR-TIMEZONE:Europe/Paris
CALSCALE:GREGORIAN
X-WR-CALDESC:The calendar for arts, humanities and social sciences
METHOD:PUBLISH
BEGIN:VEVENT
DTSTART;VALUE=DATE:20160623
DTEND;VALUE=DATE:20160624
UID:370533-20160623@calenda.revues.org
SUMMARY:Online media\, European actors and discourse - Europe in online media
URL:https://calenda-formation.labocleo.org/370533
DESCRIPTION:Le deuxième colloque LEMEL (L'Europe dans les médias en ligne) (le premier ayant eu lieu en mai 2015) a un double objectif : présenter les résultats du projet homonyme et réunir des chercheurs et des acteurs de la communication européenne. Nous inter… @plus_info https://calenda-formation.labocleo.org/370533
LOCATION:Gennevilliers
END:VEVENT
BEGIN:VEVENT
DTSTART;VALUE=DATE:20160624
DTEND;VALUE=DATE:20160625
UID:370533-20160624@calenda.revues.org
SUMMARY:Online media\, European actors and discourse - Europe in online media
URL:https://calenda-formation.labocleo.org/370533
DESCRIPTION:Le deuxième colloque LEMEL (L'Europe dans les médias en ligne) (le premier ayant eu lieu en mai 2015) a un double objectif : présenter les résultats du projet homonyme et réunir des chercheurs et des acteurs de la communication européenne. Nous inter… @plus_info https://calenda-formation.labocleo.org/370533
LOCATION:Gennevilliers
END:VEVENT
END:VCALENDAR
