BEGIN:VCALENDAR
VERSION:2.0
PRODID:-//https://calenda-formation.labocleo.org
X-WR-CALNAME:Calenda
X-WR-TIMEZONE:Europe/Paris
CALSCALE:GREGORIAN
X-WR-CALDESC:Le calendrier des lettres et sciences humaines et sociales
METHOD:PUBLISH
BEGIN:VEVENT
DTSTART;VALUE=DATE:20161001
DTEND;VALUE=DATE:20161002
UID:370545-20161001@calenda.revues.org
SUMMARY:Zonages
URL:https://calenda-formation.labocleo.org/370545
DESCRIPTION:Ce colloque souhaite réunir des chercheurs travaillant sur les outils du zonage – c’est-à-dire toutes les pratiques qui délimitent des périmètres de droits spécifiques\, bien au-delà du terme même de zone – afin de les comparer dans la longue durée\, d… Weitere Informationen https://calenda-formation.labocleo.org/370545
LOCATION:Paris
END:VEVENT
END:VCALENDAR
