BEGIN:VCALENDAR
VERSION:2.0
PRODID:-//https://calenda-formation.labocleo.org
X-WR-CALNAME:Calenda
X-WR-TIMEZONE:Europe/Paris
CALSCALE:GREGORIAN
X-WR-CALDESC:The calendar for arts, humanities and social sciences
METHOD:PUBLISH
BEGIN:VEVENT
DTSTART;VALUE=DATE:20161014
DTEND;VALUE=DATE:20161015
UID:370888-20161014@calenda.revues.org
SUMMARY:The human body in law - between freedom and property
URL:https://calenda-formation.labocleo.org/370888
DESCRIPTION:Le corps humain est traditionnellement présenté comme un aspect de la personne juridique\, et le principe de dignité comme le mécanisme permettant à la fois de protéger l’intégrité physique de la personne et de limiter les droits de cette dernière sur… @plus_info https://calenda-formation.labocleo.org/370888
LOCATION:Caen
END:VEVENT
END:VCALENDAR
