BEGIN:VCALENDAR
VERSION:2.0
PRODID:-//https://calenda-formation.labocleo.org
X-WR-CALNAME:Calenda
X-WR-TIMEZONE:Europe/Paris
CALSCALE:GREGORIAN
X-WR-CALDESC:The calendar for arts, humanities and social sciences
METHOD:PUBLISH
BEGIN:VEVENT
DTSTART;VALUE=DATE:20160901
DTEND;VALUE=DATE:20160902
UID:371398-20160901@calenda.revues.org
SUMMARY:Reevaluating and modernising our justice system
URL:https://calenda-formation.labocleo.org/371398
DESCRIPTION:Dans son article intitulé « Politiques et magistrats face aux réformes de la justice en Belgique\, France et Italie »\, Cécile Vigour écrivait : « C'est sans conteste en Belgique que l'approche managériale a été poussée la plus loin parmi les trois pay… @plus_info https://calenda-formation.labocleo.org/371398
LOCATION:Brussels
END:VEVENT
END:VCALENDAR
