BEGIN:VCALENDAR
VERSION:2.0
PRODID:-//https://calenda-formation.labocleo.org
X-WR-CALNAME:Calenda
X-WR-TIMEZONE:Europe/Paris
CALSCALE:GREGORIAN
X-WR-CALDESC:The calendar for arts, humanities and social sciences
METHOD:PUBLISH
BEGIN:VEVENT
DTSTART;VALUE=DATE:20160622
DTEND;VALUE=DATE:20160623
UID:371493-20160622@calenda.revues.org
SUMMARY:Policies of European institutions of culture
URL:https://calenda-formation.labocleo.org/371493
DESCRIPTION:Bringing together Swedish\, Italian\, Polish\, Czech and French researchers\, this international conference will explore located trajectories of European cultural institutions\, such as theatres\, operas\, and museums. From the analysis of case studies to t… @plus_info https://calenda-formation.labocleo.org/371493
LOCATION:Marseille
END:VEVENT
END:VCALENDAR
