BEGIN:VCALENDAR
VERSION:2.0
PRODID:-//https://calenda-formation.labocleo.org
X-WR-CALNAME:Calenda
X-WR-TIMEZONE:Europe/Paris
CALSCALE:GREGORIAN
X-WR-CALDESC:The calendar for arts, humanities and social sciences
METHOD:PUBLISH
BEGIN:VEVENT
DTSTART;VALUE=DATE:20160905
DTEND;VALUE=DATE:20160906
UID:371671-20160905@calenda.revues.org
SUMMARY:The role of women in technology and science teaching in the regions - 19th-21st centuries
URL:https://calenda-formation.labocleo.org/371671
DESCRIPTION:Aborder la dimension historique\, sociologique\, anthropologique et régionale de la problématique « genre et formations techniques et scientifiques » constitue à la fois un défi méthodologique et pluridisciplinaire\, tout en revêtant un intérêt pédagogi… @plus_info https://calenda-formation.labocleo.org/371671
LOCATION:Besançon
END:VEVENT
END:VCALENDAR
