BEGIN:VCALENDAR
VERSION:2.0
PRODID:-//https://calenda-formation.labocleo.org
X-WR-CALNAME:Calenda
X-WR-TIMEZONE:Europe/Paris
CALSCALE:GREGORIAN
X-WR-CALDESC:The calendar for arts, humanities and social sciences
METHOD:PUBLISH
BEGIN:VEVENT
DTSTART;VALUE=DATE:20161115
DTEND;VALUE=DATE:20161116
UID:371741-20161115@calenda.revues.org
SUMMARY:Children and youth and citizenship
URL:https://calenda-formation.labocleo.org/371741
DESCRIPTION:Les pays occidentaux investissent généralement dans des outils de politiques publiques qui se destinent à développer la citoyenneté sociale et politique des enfants et des jeunes\, c’est-à-dire les adolescent. e. s comme les jeunes adultes\, tout en ay… @plus_info https://calenda-formation.labocleo.org/371741
LOCATION:
END:VEVENT
END:VCALENDAR
