BEGIN:VCALENDAR
VERSION:2.0
PRODID:-//https://calenda-formation.labocleo.org
X-WR-CALNAME:Calenda
X-WR-TIMEZONE:Europe/Paris
CALSCALE:GREGORIAN
X-WR-CALDESC:The calendar for arts, humanities and social sciences
METHOD:PUBLISH
BEGIN:VEVENT
DTSTART;VALUE=DATE:20160715
DTEND;VALUE=DATE:20160716
UID:371752-20160715@calenda.revues.org
SUMMARY:The libertarian challenge
URL:https://calenda-formation.labocleo.org/371752
DESCRIPTION:L’ambivalence de la notion de liberté est un enjeu majeur de toute pensée thématisant le rapport entre individu et collectivité\, entre autonomie régionale et pouvoir central\, entre action individuelle et dogme. Dans l’histoire des idées\, c’est la pen… @plus_info https://calenda-formation.labocleo.org/371752
LOCATION:Limoges
END:VEVENT
END:VCALENDAR
