BEGIN:VCALENDAR
VERSION:2.0
PRODID:-//https://calenda-formation.labocleo.org
X-WR-CALNAME:Calenda
X-WR-TIMEZONE:Europe/Paris
CALSCALE:GREGORIAN
X-WR-CALDESC:Le calendrier des lettres et sciences humaines et sociales
METHOD:PUBLISH
BEGIN:VEVENT
DTSTART;VALUE=DATE:20160910
DTEND;VALUE=DATE:20160911
UID:371833-20160910@calenda.revues.org
SUMMARY:Nouveaux regards sur la haute couture parisienne\, de 1850 à nos jours
URL:https://calenda-formation.labocleo.org/371833
DESCRIPTION:Ce colloque souhaite réévaluer l’histoire de la haute couture en prenant en considération les contradictions inhérentes à sa construction et à son système : les tensions entre la couture\, l’art\, et le commerce ; sa relation avec le prêt-à-porter et l… @plus_info https://calenda-formation.labocleo.org/371833
LOCATION:Paris
END:VEVENT
END:VCALENDAR
