BEGIN:VCALENDAR
VERSION:2.0
PRODID:-//https://calenda-formation.labocleo.org
X-WR-CALNAME:Calenda
X-WR-TIMEZONE:Europe/Paris
CALSCALE:GREGORIAN
X-WR-CALDESC:The calendar for arts, humanities and social sciences
METHOD:PUBLISH
BEGIN:VEVENT
DTSTART;VALUE=DATE:20161015
DTEND;VALUE=DATE:20161016
UID:372652-20161015@calenda.revues.org
SUMMARY:Conflicts of memory: arts\, history\, commemorations
URL:https://calenda-formation.labocleo.org/372652
DESCRIPTION:This conference will focus not only on historical events which fuel conflicting memories\, but also on works of art – including those produced at the margins of institutions – which encourage or undermine the consensual interpretations of the past. Do… @plus_info https://calenda-formation.labocleo.org/372652
LOCATION:Le Mans
END:VEVENT
END:VCALENDAR
