BEGIN:VCALENDAR
VERSION:2.0
PRODID:-//https://calenda-formation.labocleo.org
X-WR-CALNAME:Calenda
X-WR-TIMEZONE:Europe/Paris
CALSCALE:GREGORIAN
X-WR-CALDESC:The calendar for arts, humanities and social sciences
METHOD:PUBLISH
BEGIN:VEVENT
DTSTART;VALUE=DATE:20160907
DTEND;VALUE=DATE:20160908
UID:372765-20160907@calenda.revues.org
SUMMARY:An interior portrait: the imaginary museum of the Impressionists
URL:https://calenda-formation.labocleo.org/372765
DESCRIPTION:Chaque artiste garde en mémoire des chefs-d’œuvre – tableaux\, sculptures ou gravures – des textes et des citations\, des souvenirs et des émotions esthétiques\, des images et des sensations. Ensemble\, ils forment son musée imaginaire qui nourrit son re… @plus_info https://calenda-formation.labocleo.org/372765
LOCATION:Rouen
END:VEVENT
BEGIN:VEVENT
DTSTART;VALUE=DATE:20160908
DTEND;VALUE=DATE:20160909
UID:372765-20160908@calenda.revues.org
SUMMARY:An interior portrait: the imaginary museum of the Impressionists
URL:https://calenda-formation.labocleo.org/372765
DESCRIPTION:Chaque artiste garde en mémoire des chefs-d’œuvre – tableaux\, sculptures ou gravures – des textes et des citations\, des souvenirs et des émotions esthétiques\, des images et des sensations. Ensemble\, ils forment son musée imaginaire qui nourrit son re… @plus_info https://calenda-formation.labocleo.org/372765
LOCATION:Rouen
END:VEVENT
END:VCALENDAR
