BEGIN:VCALENDAR
VERSION:2.0
PRODID:-//https://calenda-formation.labocleo.org
X-WR-CALNAME:Calenda
X-WR-TIMEZONE:Europe/Paris
CALSCALE:GREGORIAN
X-WR-CALDESC:Le calendrier des lettres et sciences humaines et sociales
METHOD:PUBLISH
BEGIN:VEVENT
DTSTART;VALUE=DATE:20161031
DTEND;VALUE=DATE:20161101
UID:372813-20161031@calenda.revues.org
SUMMARY:Les refus d'école
URL:https://calenda-formation.labocleo.org/372813
DESCRIPTION:Décrochage scolaire\, absentéisme\, homeschooling… : les refus d’école interrogent de façon pressante le monde éducatif contemporain. Le colloque s’intéressera quant à lui à la profondeur historique du phénomène\, à la multiplicité de ses formes\, de ses… @plus_info https://calenda-formation.labocleo.org/372813
LOCATION:Amiens
END:VEVENT
END:VCALENDAR
