BEGIN:VCALENDAR
VERSION:2.0
PRODID:-//https://calenda-formation.labocleo.org
X-WR-CALNAME:Calenda
X-WR-TIMEZONE:Europe/Paris
CALSCALE:GREGORIAN
X-WR-CALDESC:Le calendrier des lettres et sciences humaines et sociales
METHOD:PUBLISH
BEGIN:VEVENT
DTSTART;VALUE=DATE:20160815
DTEND;VALUE=DATE:20160816
UID:372860-20160815@calenda.revues.org
SUMMARY:The Idea of God
URL:https://calenda-formation.labocleo.org/372860
DESCRIPTION:Until recently\, the death of God in Western society had seemed inexorable. However\, a growing and marked interest in contemporary scholarship now strongly contests this verdict. Either concerned with the somewhat cursory conclusions of the New Atheis… Weitere Informationen https://calenda-formation.labocleo.org/372860
LOCATION:
END:VEVENT
END:VCALENDAR
