BEGIN:VCALENDAR
VERSION:2.0
PRODID:-//https://calenda-formation.labocleo.org
X-WR-CALNAME:Calenda
X-WR-TIMEZONE:Europe/Paris
CALSCALE:GREGORIAN
X-WR-CALDESC:The calendar for arts, humanities and social sciences
METHOD:PUBLISH
BEGIN:VEVENT
DTSTART;VALUE=DATE:20161030
DTEND;VALUE=DATE:20161030
UID:373155-20161030@calenda.revues.org
SUMMARY:The iconography of India - a cultural approach to an unusual new form
URL:https://calenda-formation.labocleo.org/373155
DESCRIPTION:Ce numéro de Géographie et cultures porte sur l’iconographie de l’Inde dans le contexte de la mondialisation. Les textes pourront aborder les représentations de l’Inde dans une perspective à la croisée de la culture\, de l’économie et de la politique … @plus_info https://calenda-formation.labocleo.org/373155
LOCATION:
END:VEVENT
END:VCALENDAR
