BEGIN:VCALENDAR
VERSION:2.0
PRODID:-//https://calenda-formation.labocleo.org
X-WR-CALNAME:Calenda
X-WR-TIMEZONE:Europe/Paris
CALSCALE:GREGORIAN
X-WR-CALDESC:Le calendrier des lettres et sciences humaines et sociales
METHOD:PUBLISH
BEGIN:VEVENT
DTSTART;VALUE=DATE:20161015
DTEND;VALUE=DATE:20161016
UID:373345-20161015@calenda.revues.org
SUMMARY:Neoliberalism in the Anglophone world
URL:https://calenda-formation.labocleo.org/373345
DESCRIPTION:References to neoliberalism in Anglophone scholarly research are commonplace\, and have increased exponentially over the past couple of decades. Despite (or perhaps because of) such promiscuity\, however\, the term itself has been prone to inflation\, an… Weitere Informationen https://calenda-formation.labocleo.org/373345
LOCATION:Montpellier
END:VEVENT
END:VCALENDAR
