BEGIN:VCALENDAR
VERSION:2.0
PRODID:-//https://calenda-formation.labocleo.org
X-WR-CALNAME:Calenda
X-WR-TIMEZONE:Europe/Paris
CALSCALE:GREGORIAN
X-WR-CALDESC:The calendar for arts, humanities and social sciences
METHOD:PUBLISH
BEGIN:VEVENT
DTSTART;VALUE=DATE:20160903
DTEND;VALUE=DATE:20160904
UID:373413-20160903@calenda.revues.org
SUMMARY:Art and the Environment in Britain 1700-today
URL:https://calenda-formation.labocleo.org/373413
DESCRIPTION:Whether one thinks of environment as context\, setting\, climate change\, green spaces or sounds\, today’s epistemology invites us to rethink man’s relation to the external world to the extent that the “inside” and “outside” coalesce\, nature and culture … @plus_info https://calenda-formation.labocleo.org/373413
LOCATION:Rennes
END:VEVENT
END:VCALENDAR
