BEGIN:VCALENDAR
VERSION:2.0
PRODID:-//https://calenda-formation.labocleo.org
X-WR-CALNAME:Calenda
X-WR-TIMEZONE:Europe/Paris
CALSCALE:GREGORIAN
X-WR-CALDESC:Le calendrier des lettres et sciences humaines et sociales
METHOD:PUBLISH
BEGIN:VEVENT
DTSTART;VALUE=DATE:20160915
DTEND;VALUE=DATE:20160916
UID:374365-20160915@calenda.revues.org
SUMMARY:Approches territorialisées des usages de la forêt
URL:https://calenda-formation.labocleo.org/374365
DESCRIPTION:Ce colloque a pour ambition de réinterroger la notion de territoire et la place qu’y occupent les espaces boisés. Il est organisé sur la base des contributions volontaires et fait appel à tous chercheurs\, gestionnaires ou acteurs se sentant concernés… Más informaciones https://calenda-formation.labocleo.org/374365
LOCATION:París
END:VEVENT
END:VCALENDAR
